BEGIN:VCALENDAR
VERSION:2.0
PRODID:-//jEvents 2.0 for Joomla//EN
CALSCALE:GREGORIAN
METHOD:PUBLISH
BEGIN:VTIMEZONE
TZID:Europe/Berlin
END:VTIMEZONE
BEGIN:VEVENT
UID:800711c2a2c1ed60d418b80ff926b140
CATEGORIES:Rangliste
CREATED:20211025T014503
SUMMARY:RieserSailingCup 8
LOCATION:Unterschneidheim
DESCRIPTION:
DTSTAMP:20260421T104651
DTSTART;TZID=Europe/Berlin:20220528T090000
DTEND;TZID=Europe/Berlin:20220529T143000
SEQUENCE:0
TRANSP:OPAQUE
END:VEVENT
END:VCALENDAR