BEGIN:VCALENDAR
VERSION:2.0
PRODID:-//jEvents 2.0 for Joomla//EN
CALSCALE:GREGORIAN
METHOD:PUBLISH
BEGIN:VTIMEZONE
TZID:Europe/Berlin
BEGIN:STANDARD
DTSTART:20201025T020000
RDATE:20210328T030000
TZOFFSETFROM:+0200
TZOFFSETTO:+0100
TZNAME:Europe/Berlin CET
END:STANDARD
BEGIN:DAYLIGHT
DTSTART:20200903T000000
RDATE:20201025T020000
TZOFFSETFROM:+0100
TZOFFSETTO:+0200
TZNAME:Europe/Berlin CEST
END:DAYLIGHT
END:VTIMEZONE
BEGIN:VEVENT
UID:b731bb162c4c301518dd3ff780ac0213
CATEGORIES:Deutsche Meisterschaft
CREATED:20210211T115818
SUMMARY:IDM der M-Boote in Geldern
LOCATION:Heidesee
DESCRIPTION:
DTSTAMP:20260421T075253
DTSTART;TZID=Europe/Berlin;VALUE=DATE:20210904
DTEND;TZID=Europe/Berlin;VALUE=DATE:20210906
SEQUENCE:0
TRANSP:OPAQUE
END:VEVENT
END:VCALENDAR