BEGIN:VCALENDAR
VERSION:2.0
PRODID:-//jEvents 2.0 for Joomla//EN
CALSCALE:GREGORIAN
METHOD:PUBLISH
BEGIN:VTIMEZONE
TZID:Europe/Berlin
BEGIN:STANDARD
DTSTART:20181028T020000
RDATE:20190331T030000
TZOFFSETFROM:+0200
TZOFFSETTO:+0100
TZNAME:Europe/Berlin CET
END:STANDARD
BEGIN:STANDARD
DTSTART:20191027T020000
RDATE:20200329T030000
TZOFFSETFROM:+0200
TZOFFSETTO:+0100
TZNAME:Europe/Berlin CET
END:STANDARD
BEGIN:STANDARD
DTSTART:20201025T020000
RDATE:20210328T030000
TZOFFSETFROM:+0200
TZOFFSETTO:+0100
TZNAME:Europe/Berlin CET
END:STANDARD
BEGIN:DAYLIGHT
DTSTART:20180613T100000
RDATE:20181028T020000
TZOFFSETFROM:+0100
TZOFFSETTO:+0200
TZNAME:Europe/Berlin CEST
END:DAYLIGHT
BEGIN:DAYLIGHT
DTSTART:20190331T030000
RDATE:20191027T020000
TZOFFSETFROM:+0100
TZOFFSETTO:+0200
TZNAME:Europe/Berlin CEST
END:DAYLIGHT
BEGIN:DAYLIGHT
DTSTART:20200329T030000
RDATE:20201025T020000
TZOFFSETFROM:+0100
TZOFFSETTO:+0200
TZNAME:Europe/Berlin CEST
END:DAYLIGHT
END:VTIMEZONE
BEGIN:VEVENT
UID:57654d35dd0a256b7a0fc410995ea621
CATEGORIES:Rangliste
CREATED:20181203T123441
SUMMARY:Swiss Open Championship
LOCATION:Schwarzsee
DESCRIPTION:Schweizermeisterschaft der 10 Rater, Diese Regatta zählt als Rangliste für 
 die DSV Rangliste.<table border='0'><tr><td class='label'>Veranstalter : </
 td><td>MYCS\n</td></tr><tr><td class='label'>Klassen : </td><td>10R\n</td><
 /tr><tr><td class='label'>Ausschreibung : </td><td><a href='https://www.rad
 iosailing.de/images/jevents/5cdef1097281a3.95964653.pdf' target='_blank'>CH
 10r_Ausschr_2019.pdf</a>\n</td></tr></table>
DTSTAMP:20260422T045009
DTSTART;TZID=Europe/Berlin:20190614T100000
DTEND;TZID=Europe/Berlin:20190616T150000
SEQUENCE:0
TRANSP:OPAQUE
END:VEVENT
END:VCALENDAR