BEGIN:VCALENDAR
VERSION:2.0
PRODID:-//jEvents 2.0 for Joomla//EN
CALSCALE:GREGORIAN
METHOD:PUBLISH
BEGIN:VTIMEZONE
TZID:Europe/Berlin
BEGIN:STANDARD
DTSTART:20181028T020000
RDATE:20190331T030000
TZOFFSETFROM:+0200
TZOFFSETTO:+0100
TZNAME:Europe/Berlin CET
END:STANDARD
BEGIN:STANDARD
DTSTART:20191027T020000
RDATE:20200329T030000
TZOFFSETFROM:+0200
TZOFFSETTO:+0100
TZNAME:Europe/Berlin CET
END:STANDARD
BEGIN:STANDARD
DTSTART:20201025T020000
RDATE:20210328T030000
TZOFFSETFROM:+0200
TZOFFSETTO:+0100
TZNAME:Europe/Berlin CET
END:STANDARD
BEGIN:DAYLIGHT
DTSTART:20180809T000000
RDATE:20181028T020000
TZOFFSETFROM:+0100
TZOFFSETTO:+0200
TZNAME:Europe/Berlin CEST
END:DAYLIGHT
BEGIN:DAYLIGHT
DTSTART:20190331T030000
RDATE:20191027T020000
TZOFFSETFROM:+0100
TZOFFSETTO:+0200
TZNAME:Europe/Berlin CEST
END:DAYLIGHT
BEGIN:DAYLIGHT
DTSTART:20200329T030000
RDATE:20201025T020000
TZOFFSETFROM:+0100
TZOFFSETTO:+0200
TZNAME:Europe/Berlin CEST
END:DAYLIGHT
END:VTIMEZONE
BEGIN:VEVENT
UID:92bc80d834c9c8b6dee838068e597986
CATEGORIES:Schwerpunktrangliste
CREATED:20181031T124448
SUMMARY:Marblehead Schwerpunkt-Regatta
LOCATION:Wassersportheim Gatow
DESCRIPTION:<table border='0'><tr><td class='label'>Veranstalter : </td><td>Berliner Mo
 dellsegler\n</td></tr><tr><td class='label'>Ausrichter : </td><td>BMS\n</td
 ></tr><tr><td class='label'>Klassen : </td><td>M\n</td></tr><tr><td class='
 label'>Ausschreibung : </td><td><a href='https://www.radiosailing.de/images
 /jevents/5c3b3993f2c365.29443582.pdf' target='_blank'>Ausschreibung_Ranglis
 te_M_Berlin_2019.pdf</a>\n</td></tr></table>
DTSTAMP:20260425T192204
DTSTART;TZID=Europe/Berlin;VALUE=DATE:20190810
DTEND;TZID=Europe/Berlin;VALUE=DATE:20190812
SEQUENCE:0
TRANSP:OPAQUE
END:VEVENT
END:VCALENDAR