BEGIN:VCALENDAR
VERSION:2.0
PRODID:-//jEvents 2.0 for Joomla//EN
CALSCALE:GREGORIAN
METHOD:PUBLISH
BEGIN:VTIMEZONE
TZID:Europe/Berlin
BEGIN:STANDARD
DTSTART:20181028T020000
RDATE:20190331T030000
TZOFFSETFROM:+0200
TZOFFSETTO:+0100
TZNAME:Europe/Berlin CET
END:STANDARD
BEGIN:STANDARD
DTSTART:20191027T020000
RDATE:20200329T030000
TZOFFSETFROM:+0200
TZOFFSETTO:+0100
TZNAME:Europe/Berlin CET
END:STANDARD
BEGIN:STANDARD
DTSTART:20201025T020000
RDATE:20210328T030000
TZOFFSETFROM:+0200
TZOFFSETTO:+0100
TZNAME:Europe/Berlin CET
END:STANDARD
BEGIN:DAYLIGHT
DTSTART:20180426T100000
RDATE:20181028T020000
TZOFFSETFROM:+0100
TZOFFSETTO:+0200
TZNAME:Europe/Berlin CEST
END:DAYLIGHT
BEGIN:DAYLIGHT
DTSTART:20190331T030000
RDATE:20191027T020000
TZOFFSETFROM:+0100
TZOFFSETTO:+0200
TZNAME:Europe/Berlin CEST
END:DAYLIGHT
BEGIN:DAYLIGHT
DTSTART:20200329T030000
RDATE:20201025T020000
TZOFFSETFROM:+0100
TZOFFSETTO:+0200
TZNAME:Europe/Berlin CEST
END:DAYLIGHT
END:VTIMEZONE
BEGIN:VEVENT
UID:3085975a646b8629316a68fbfd5eed35
CATEGORIES:Rangliste
CREATED:20181028T114853
SUMMARY:Frühjahrs - IOM - RL 2019
LOCATION:Ohlenstedter Quellsee
DESCRIPTION:<table border='0'><tr><td class='label'>Veranstalter : </td><td>VdMYS\n</td
 ></tr><tr><td class='label'>Ausrichter : </td><td>RC-Segelfreunde Bremen\n<
 /td></tr><tr><td class='label'>Klassen : </td><td>IOM\n</td></tr><tr><td cl
 ass='label'>Ausschreibung : </td><td><a href='https://www.radiosailing.de/i
 mages/jevents/5cb46de02e97c7.98203433.xls' target='_blank'>Ausschreibung Ap
 ril 2019.xls</a>\n</td></tr></table>
DTSTAMP:20260420T084023
DTSTART;TZID=Europe/Berlin:20190427T100000
DTEND;TZID=Europe/Berlin:20190428T143000
SEQUENCE:0
TRANSP:OPAQUE
END:VEVENT
END:VCALENDAR