BEGIN:VCALENDAR
VERSION:2.0
PRODID:-//jEvents 2.0 for Joomla//EN
CALSCALE:GREGORIAN
METHOD:PUBLISH
BEGIN:VTIMEZONE
TZID:Europe/Berlin
END:VTIMEZONE
BEGIN:VEVENT
UID:f977fd555ec4c6e5128ace3c7c4bf659
CATEGORIES:Rangliste
CREATED:20241104T212948
SUMMARY:RG65 Neujahrsregatta Bremerhaven
LOCATION:Bremerhaven 
DESCRIPTION:
DTSTAMP:20260422T011258
DTSTART;TZID=Europe/Berlin;VALUE=DATE:20250105
DTEND;TZID=Europe/Berlin;VALUE=DATE:20250106
SEQUENCE:0
TRANSP:OPAQUE
END:VEVENT
END:VCALENDAR