BEGIN:VCALENDAR
VERSION:2.0
PRODID:-//jEvents 2.0 for Joomla//EN
CALSCALE:GREGORIAN
METHOD:PUBLISH
BEGIN:VTIMEZONE
TZID:Europe/Berlin
END:VTIMEZONE
BEGIN:VEVENT
UID:31dfef4b52a54133627ed7849ced72e2
CATEGORIES:Freundschaft
CREATED:20240224T134135
SUMMARY:DF95 Freundschaftsregatta
LOCATION:Bevertalsperre 
DESCRIPTION:Moin zusammen,\n\nam 3. März findet eine Freundschaft Regatta an der Bever 
 statt.\nTreffen um 10 Uhr 30\nErster Start 11 Uhr \nLetzter Start zwischen 
 14 Uhr 30\nund 15 Uhr.\nGruß Yogi 
X-ALT-DESC;FMTTYPE=text/html:Moin zusammen,<br /><br />am 3. März findet eine Freundschaft Regatta an de
 r Bever statt.<br />Treffen um 10 Uhr 30<br />Erster Start 11 Uhr <br />Let
 zter Start zwischen 14 Uhr 30<br />und 15 Uhr.<br />Gruß Yogi 
CONTACT:Diese E-Mail-Adresse ist vor Spambots geschützt! Zur Anzeige muss JavaScript eingeschaltet sein.
DTSTAMP:20260424T032934
DTSTART;TZID=Europe/Berlin;VALUE=DATE:20240303
DTEND;TZID=Europe/Berlin;VALUE=DATE:20240304
SEQUENCE:0
TRANSP:OPAQUE
END:VEVENT
END:VCALENDAR