BEGIN:VCALENDAR
VERSION:2.0
PRODID:-//jEvents 2.0 for Joomla//EN
CALSCALE:GREGORIAN
METHOD:PUBLISH
BEGIN:VTIMEZONE
TZID:Europe/Berlin
END:VTIMEZONE
BEGIN:VEVENT
UID:0b324f6583f11964b1a9745c9b07f53d
CATEGORIES:Abgesagt
CREATED:20240104T151547
SUMMARY:DF95 Regatta in Geldern  E N T F Ä L L T !
LOCATION:Heidesee
DESCRIPTION:
CONTACT:Diese E-Mail-Adresse ist vor Spambots geschützt! Zur Anzeige muss JavaScript eingeschaltet sein.
DTSTAMP:20260426T011332
DTSTART;TZID=Europe/Berlin:20240217T103000
DTEND;TZID=Europe/Berlin:20240217T163000
SEQUENCE:0
TRANSP:OPAQUE
END:VEVENT
END:VCALENDAR