BEGIN:VCALENDAR
VERSION:2.0
PRODID:-//jEvents 2.0 for Joomla//EN
CALSCALE:GREGORIAN
METHOD:PUBLISH
BEGIN:VTIMEZONE
TZID:Europe/Berlin
END:VTIMEZONE
BEGIN:VEVENT
UID:94e238b64b43ed278b6c8d71a0851377
CATEGORIES:Rangliste
CREATED:20230623T131731
SUMMARY:RG65 Dümmer-Cup
LOCATION:Dümmer See/SCD
DESCRIPTION:
CONTACT:Diese E-Mail-Adresse ist vor Spambots geschützt! Zur Anzeige muss JavaScript eingeschaltet sein.
DTSTAMP:20260419T163035
DTSTART;TZID=Europe/Berlin;VALUE=DATE:20230812
DTEND;TZID=Europe/Berlin;VALUE=DATE:20230813
SEQUENCE:0
TRANSP:OPAQUE
END:VEVENT
END:VCALENDAR