BEGIN:VCALENDAR
VERSION:2.0
PRODID:-//jEvents 2.0 for Joomla//EN
CALSCALE:GREGORIAN
METHOD:PUBLISH
BEGIN:VTIMEZONE
TZID:Europe/Berlin
END:VTIMEZONE
BEGIN:VEVENT
UID:01fcb20bf940f5394b56ef75e28e5c38
CATEGORIES:Rangliste
CREATED:20221116T231055
SUMMARY:Golf51 März-Cup
LOCATION:Rethmar Golf 
DESCRIPTION:Kurz-Info:\n\nAn der Regatta können alle SeglerInnen mit einem RC-Laser tei
 lnehmen, auch die, die nicht um Ranglistenpunkte wetteifern. Eine Mitglieds
 chaft in der DKVRCS für 10 € im Jahr ist nicht notwendig, aber vorteilhaft.
 \n\nWeiteres siehe Ausschreibung die noch folgt.\n\nGruß HansWegen der Zeit
 umstellung in der Nacht vom 25.3. auf den 26.3. verändere ich die in der Au
 sschreibung genannten Zeiten um jeweils 30min!Registrierung ab 9.30 Sommerz
 eitSteuermannsbesprechung 10.30 Sommerzeit1. Start 10.45 SommerzeitLetzter 
 Start zwischen 14.00 und 15.30 Sommerzeit
X-ALT-DESC;FMTTYPE=text/html:Kurz-Info:<br /><br />An der Regatta können alle SeglerInnen mit einem RC-L
 aser teilnehmen, auch die, die nicht um Ranglistenpunkte wetteifern. Eine M
 itgliedschaft in der DKVRCS für 10 € im Jahr ist nicht notwendig, aber vort
 eilhaft.<br /><br />Weiteres siehe Ausschreibung die noch folgt.<br /><br /
 >Gruß HansWegen der Zeitumstellung in der Nacht vom 25.3. auf den 26.3. ver
 ändere ich die in der Ausschreibung genannten Zeiten um jeweils 30min!Regis
 trierung ab 9.30 SommerzeitSteuermannsbesprechung 10.30 Sommerzeit1. Start 
 10.45 SommerzeitLetzter Start zwischen 14.00 und 15.30 Sommerzeit
DTSTAMP:20260419T153822
DTSTART;TZID=Europe/Berlin;VALUE=DATE:20230326
DTEND;TZID=Europe/Berlin;VALUE=DATE:20230327
SEQUENCE:0
TRANSP:OPAQUE
END:VEVENT
END:VCALENDAR