BEGIN:VCALENDAR
VERSION:2.0
PRODID:-//jEvents 2.0 for Joomla//EN
CALSCALE:GREGORIAN
METHOD:PUBLISH
BEGIN:VTIMEZONE
TZID:Europe/Berlin
END:VTIMEZONE
BEGIN:VEVENT
UID:524e24e650f3f3ec0d1bdfe5ba62409d
CATEGORIES:Freundschaft
CREATED:20221024T224007
SUMMARY:RieserSailingCup 19
LOCATION:Unterschneidheim
DESCRIPTION:
DTSTAMP:20260423T200358
DTSTART;TZID=Europe/Berlin:20231118T100000
SEQUENCE:0
TRANSP:OPAQUE
END:VEVENT
END:VCALENDAR