BEGIN:VCALENDAR
VERSION:2.0
PRODID:-//jEvents 2.0 for Joomla//EN
CALSCALE:GREGORIAN
METHOD:PUBLISH
BEGIN:VTIMEZONE
TZID:Europe/Berlin
END:VTIMEZONE
BEGIN:VEVENT
UID:43e4caa280b5001f0e53cf32c90b1a40
CATEGORIES:Freundschaft
CREATED:20221024T220238
SUMMARY:RieserSailingCup 10
LOCATION:Unterschneidheim
DESCRIPTION:
DTSTAMP:20260423T183707
DTSTART;TZID=Europe/Berlin:20230618T100000
SEQUENCE:0
TRANSP:OPAQUE
END:VEVENT
END:VCALENDAR