BEGIN:VCALENDAR
VERSION:2.0
PRODID:-//jEvents 2.0 for Joomla//EN
CALSCALE:GREGORIAN
METHOD:PUBLISH
BEGIN:VTIMEZONE
TZID:Europe/Berlin
END:VTIMEZONE
BEGIN:VEVENT
UID:25c67b82853548d62a97c9e2ab747b5b
CATEGORIES:Rangliste
CREATED:20221024T213836
SUMMARY:RieserSailingCup 7
LOCATION:Unterschneidheim
DESCRIPTION:
DTSTAMP:20260421T075342
DTSTART;TZID=Europe/Berlin:20230519T100000
SEQUENCE:0
TRANSP:OPAQUE
END:VEVENT
END:VCALENDAR