BEGIN:VCALENDAR
VERSION:2.0
PRODID:-//jEvents 2.0 for Joomla//EN
CALSCALE:GREGORIAN
METHOD:PUBLISH
BEGIN:VTIMEZONE
TZID:Europe/Berlin
END:VTIMEZONE
BEGIN:VEVENT
UID:cc93b7328940fbf63e90c318060a667c
CATEGORIES:Rangliste
CREATED:20260424T093026
SUMMARY:Ten Rater Trophy
LOCATION:kleiner Heidsee
DESCRIPTION:<p><strong>SwissCup 2026 Fleet Race</strong></p><p><strong>Anmeldungen Dire
 ct über NOR / Teilnahme nach Eingang der Anmeldung MAX 25 Plätze</strong></
 p><p><strong>ACHTUNG! Alle Skipper sind verpflichtet Quggamuschen freie (ge
 reinigte Boote) Einzusetzen)!<br />ATTENTION: All skippers are obliged to u
 se QUAGGA shells (cleaned boats)!<br />ATTENTION : Tous les skippers sont o
 bligés de mettre des QUAGGA moules (bateaux nettoyés) !<br />ATTENZIONE: Tu
 tti gli skipper sono obbligati ad utilizzare Conchiglie QUAGGA&nbsp; (barch
 e pulite)</strong></p><p>&nbsp;</p>
DTSTAMP:20260425T163043
DTSTART;TZID=Europe/Berlin;VALUE=DATE:20260824
DTEND;TZID=Europe/Berlin;VALUE=DATE:20260827
SEQUENCE:0
TRANSP:OPAQUE
END:VEVENT
END:VCALENDAR