BEGIN:VCALENDAR
VERSION:2.0
PRODID:-//jEvents 2.0 for Joomla//EN
CALSCALE:GREGORIAN
METHOD:PUBLISH
BEGIN:VTIMEZONE
TZID:Europe/Berlin
END:VTIMEZONE
BEGIN:VEVENT
UID:78c218f6faebf9827e26bff3be4fc8bc
CATEGORIES:Rangliste
CREATED:20250323T172644
SUMMARY:IOM Dümmer-Cup
LOCATION:Dümmer See/SCD
DESCRIPTION:
DTSTAMP:20260425T212310
DTSTART;TZID=Europe/Berlin;VALUE=DATE:20250809
DTEND;TZID=Europe/Berlin;VALUE=DATE:20250810
SEQUENCE:0
TRANSP:OPAQUE
END:VEVENT
END:VCALENDAR