BEGIN:VCALENDAR
VERSION:2.0
PRODID:-//jEvents 2.0 for Joomla//EN
CALSCALE:GREGORIAN
METHOD:PUBLISH
BEGIN:VTIMEZONE
TZID:Europe/Berlin
END:VTIMEZONE
BEGIN:VEVENT
UID:bcacb494791df884c2423f5ea17182a9
CATEGORIES:Rangliste
CREATED:20241220T135105
SUMMARY:Internationale Schweizer Meisterschaft
LOCATION:Schwarzsee
DESCRIPTION:Die Regatta zählt zur Deutschen 10 Rater Rangliste\n
X-ALT-DESC;FMTTYPE=text/html:<p>Die Regatta zählt zur Deutschen 10 Rater Rangliste</p>
CONTACT:Urban Großholz / Urs Blum
X-EXTRAINFO:Ausschreibung folgt 2025
DTSTAMP:20260422T032909
DTSTART;TZID=Europe/Berlin;VALUE=DATE:20250613
DTEND;TZID=Europe/Berlin;VALUE=DATE:20250616
SEQUENCE:0
TRANSP:OPAQUE
END:VEVENT
END:VCALENDAR