BEGIN:VCALENDAR
VERSION:2.0
PRODID:-//jEvents 2.0 for Joomla//EN
CALSCALE:GREGORIAN
METHOD:PUBLISH
BEGIN:VTIMEZONE
TZID:Europe/Berlin
END:VTIMEZONE
BEGIN:VEVENT
UID:b54da4c67aa2889e8337dab50b24c22e
CATEGORIES:Rangliste
CREATED:20241114T133301
SUMMARY:M Ranglistenregatta & ENC Geldern
LOCATION:Heidesee
DESCRIPTION:
DTSTAMP:20260422T051819
DTSTART;TZID=Europe/Berlin;VALUE=DATE:20250830
DTEND;TZID=Europe/Berlin;VALUE=DATE:20250901
SEQUENCE:0
TRANSP:OPAQUE
END:VEVENT
END:VCALENDAR