BEGIN:VCALENDAR
VERSION:2.0
PRODID:-//jEvents 2.0 for Joomla//EN
CALSCALE:GREGORIAN
METHOD:PUBLISH
BEGIN:VTIMEZONE
TZID:Europe/Berlin
END:VTIMEZONE
BEGIN:VEVENT
UID:17ac2b492f50bfd60c17f868b9b9c5be
CATEGORIES:Rangliste
CREATED:20260422T123354
SUMMARY:RC Laser Niedersachsen-Cup
LOCATION:Rethmar Golf 
DESCRIPTION:
DTSTAMP:20260423T001833
DTSTART;TZID=Europe/Berlin;VALUE=DATE:20260913
DTEND;TZID=Europe/Berlin;VALUE=DATE:20260914
SEQUENCE:0
TRANSP:OPAQUE
END:VEVENT
END:VCALENDAR