BEGIN:VCALENDAR
VERSION:2.0
PRODID:-//jEvents 2.0 for Joomla//EN
CALSCALE:GREGORIAN
METHOD:PUBLISH
BEGIN:VTIMEZONE
TZID:Europe/Berlin
END:VTIMEZONE
BEGIN:VEVENT
UID:92810f79c59f09046203dc1f03d83fe8
CATEGORIES:Rangliste
CREATED:20260422T123015
SUMMARY:RG65 Herbstregatta Rethmar
LOCATION:Rethmar Golf 
DESCRIPTION:
DTSTAMP:20260423T001835
DTSTART;TZID=Europe/Berlin;VALUE=DATE:20260912
DTEND;TZID=Europe/Berlin;VALUE=DATE:20260913
SEQUENCE:0
TRANSP:OPAQUE
END:VEVENT
END:VCALENDAR