BEGIN:VCALENDAR
VERSION:2.0
PRODID:-//jEvents 2.0 for Joomla//EN
CALSCALE:GREGORIAN
METHOD:PUBLISH
BEGIN:VTIMEZONE
TZID:Europe/Berlin
END:VTIMEZONE
BEGIN:VEVENT
UID:981a668e05e532217af66eda221b7179
CATEGORIES:Rangliste
CREATED:20260421T205232
SUMMARY:IOM Burhave Nordseelagune
LOCATION:Nordseelagune
DESCRIPTION:<p>Ausschreibung kommt nach den Sommerferien.</p>
CONTACT:max.lehmann1@gmx.net
DTSTAMP:20260423T001834
DTSTART;TZID=Europe/Berlin;VALUE=DATE:20260919
DTEND;TZID=Europe/Berlin;VALUE=DATE:20260921
SEQUENCE:0
TRANSP:OPAQUE
END:VEVENT
END:VCALENDAR