BEGIN:VCALENDAR
VERSION:2.0
PRODID:-//jEvents 2.0 for Joomla//EN
CALSCALE:GREGORIAN
METHOD:PUBLISH
BEGIN:VTIMEZONE
TZID:Europe/Berlin
END:VTIMEZONE
BEGIN:VEVENT
UID:91ce01b9ce320a818d2ec56944f35901
CATEGORIES:Rangliste
CREATED:20250323T171921
SUMMARY: RC Laser-Pfingstregatta
LOCATION:Dümmer See/SCD
DESCRIPTION:
CONTACT:Diese E-Mail-Adresse ist vor Spambots geschützt! Zur Anzeige muss JavaScript eingeschaltet sein.
DTSTAMP:20260425T210347
DTSTART;TZID=Europe/Berlin;VALUE=DATE:20250609
DTEND;TZID=Europe/Berlin;VALUE=DATE:20250610
SEQUENCE:0
TRANSP:OPAQUE
END:VEVENT
END:VCALENDAR