BEGIN:VCALENDAR
VERSION:2.0
PRODID:-//jEvents 2.0 for Joomla//EN
CALSCALE:GREGORIAN
METHOD:PUBLISH
BEGIN:VTIMEZONE
TZID:Europe/Berlin
END:VTIMEZONE
BEGIN:VEVENT
UID:99bc2d982b3f8d6349f75e3f76bc37fa
CATEGORIES:Internationale Meisterschaft
CREATED:20241103T193407
SUMMARY:SUI Swiss Championship
LOCATION:Steckborn
DESCRIPTION:
DTSTAMP:20260421T175207
DTSTART;TZID=Europe/Berlin;VALUE=DATE:20250412
DTEND;TZID=Europe/Berlin;VALUE=DATE:20250414
SEQUENCE:0
TRANSP:OPAQUE
END:VEVENT
END:VCALENDAR